BEGIN:VCALENDAR
VERSION:2.0
PRODID:-//Intand Corporation//Tandem//EN
METHOD:PUBLISH
BEGIN:VEVENT
DTSTAMP:20260421T164348Z
DTSTART;VALUE=DATE:20260602
DTEND;VALUE=DATE:20260603
TRANSP:TRANSPARENT
PRIORITY:0
SUMMARY:Cafetaria Floor Re-Finishing
LOCATION:Club JC Room\, Kitchen\, Cafeteria
DESCRIPTION:Groups:\nChurch ()\nSchool ()\n\nLocations:\nClub JC Room\nKit
 chen\nCafeteria\n\n
URL;VALUE=URI:https://ourredeemerschurch.tandem.co/index.php?type=view&act
 ion=event&id=49299
CREATED:20260420T145333Z
LAST-MODIFIED:20260420T150001Z
UID:event-49299-ourredeemerschurch@intand.com
END:VEVENT
END:VCALENDAR
