BEGIN:VCALENDAR
VERSION:2.0
PRODID:-//Intand Corporation//Tandem//EN
METHOD:PUBLISH
BEGIN:VEVENT
DTSTAMP:20260421T164343Z
DTSTART:20260514T190000Z
DTEND:20260514T200000Z
TRANSP:TRANSPARENT
PRIORITY:0
SUMMARY:Preschool Program 9:00 - T/Th PM
LOCATION:Cafeteria
DESCRIPTION:Setup: 1:30 pm\nBreakdown: 3:30 pm\n\nGroups:\nSchool ()\n\nLo
 cation:\nCafeteria\n\n
URL;VALUE=URI:https://ourredeemerschurch.tandem.co/index.php?type=view&act
 ion=event&id=49284
CREATED:20260415T182625Z
LAST-MODIFIED:20260415T182625Z
UID:event-49284-ourredeemerschurch@intand.com
END:VEVENT
END:VCALENDAR
