BEGIN:VCALENDAR
VERSION:2.0
PRODID:-//Intand Corporation//Tandem//EN
METHOD:PUBLISH
BEGIN:VEVENT
DTSTAMP:20260421T164346Z
DTSTART:20260514T140000Z
DTEND:20260514T150000Z
TRANSP:TRANSPARENT
PRIORITY:0
SUMMARY:Preschool Program 9:00 - T/Th AM
LOCATION:Cafeteria
DESCRIPTION:Setup: 7:30 am\nBreakdown: 10:30 am\n\nGroups:\nSchool ()\n\nL
 ocation:\nCafeteria\n\n
URL;VALUE=URI:https://ourredeemerschurch.tandem.co/index.php?type=view&act
 ion=event&id=49283
CREATED:20260415T182542Z
LAST-MODIFIED:20260415T182542Z
UID:event-49283-ourredeemerschurch@intand.com
END:VEVENT
END:VCALENDAR
