BEGIN:VCALENDAR
VERSION:2.0
PRODID:-//Intand Corporation//Tandem//EN
METHOD:PUBLISH
BEGIN:VEVENT
DTSTAMP:20260420T164720Z
DTSTART;VALUE=DATE:20260330
DTEND;VALUE=DATE:20260331
TRANSP:TRANSPARENT
PRIORITY:0
SUMMARY:Lunch: Tator Tot Hot Dish\, Rolls\, Veggies & Fruit
LOCATION:Our Redeemer's Christian School
DESCRIPTION:Groups:\nSchool ()\n\nLocation:\nOur Redeemer's Christian Scho
 ol\n\n
URL;VALUE=URI:https://ourredeemerschurch.tandem.co/index.php?type=view&act
 ion=event&id=48978
CREATED:20260227T154113Z
LAST-MODIFIED:20260227T154113Z
UID:event-48978-ourredeemerschurch@intand.com
END:VEVENT
END:VCALENDAR
