BEGIN:VCALENDAR
VERSION:2.0
PRODID:-//Intand Corporation//Tandem//EN
METHOD:PUBLISH
BEGIN:VEVENT
DTSTAMP:20260425T144249Z
DTSTART:20260414T171500Z
DTEND:20260414T174500Z
TRANSP:TRANSPARENT
PRIORITY:0
SUMMARY:UND Rep Visit
LOCATION:Club JC Room
DESCRIPTION:Groups:\nSchool ()\n\nLocation:\nClub JC Room\n\n
URL;VALUE=URI:https://ourredeemerschurch.tandem.co/index.php?type=view&act
 ion=event&id=48959
CREATED:20260226T210910Z
LAST-MODIFIED:20260226T210910Z
UID:event-48959-ourredeemerschurch@intand.com
END:VEVENT
END:VCALENDAR
