BEGIN:VCALENDAR
VERSION:2.0
PRODID:-//Intand Corporation//Tandem//EN
METHOD:PUBLISH
BEGIN:VEVENT
DTSTAMP:20260420T182755Z
DTSTART:20260415T203000Z
DTEND:20260415T220000Z
TRANSP:TRANSPARENT
PRIORITY:0
SUMMARY:5/6 BB Practice
LOCATION:Old Gymnasium
DESCRIPTION:Groups:\nSchool ()\n\nLocation:\nOld Gymnasium\n\n
URL;VALUE=URI:https://ourredeemerschurch.tandem.co/index.php?type=view&act
 ion=event&id=48781
CREATED:20260130T221904Z
LAST-MODIFIED:20260130T221904Z
UID:event-48781-ourredeemerschurch@intand.com
END:VEVENT
END:VCALENDAR
