BEGIN:VCALENDAR
VERSION:2.0
PRODID:-//Intand Corporation//Tandem//EN
METHOD:PUBLISH
BEGIN:VEVENT
DTSTAMP:20260421T171028Z
DTSTART:20260809T190000Z
DTEND:20260809T200000Z
TRANSP:TRANSPARENT
PRIORITY:0
SUMMARY:Hope Fellowship
LOCATION:Club JC Room
DESCRIPTION:Support for individuals who have lost a spouse to death. Heali
 ng comes through faith in Jesus and walking with others who understand how
  life changes with loss of a spouse. Meetings focus on a relevant topic. T
 his is a community-wide outreach open to anyone who has lost a spouse. Cal
 l 701-838-0750 for more info.\n\n\nGroups:\nChurch ()\n\nLocation:\nClub J
 C Room\n\n
URL;VALUE=URI:https://ourredeemerschurch.tandem.co/index.php?type=view&act
 ion=event&id=48677
CREATED:20260127T192724Z
LAST-MODIFIED:20260127T192724Z
UID:event-48677-ourredeemerschurch@intand.com
END:VEVENT
END:VCALENDAR
