BEGIN:VCALENDAR
VERSION:2.0
PRODID:-//Intand Corporation//Tandem//EN
METHOD:PUBLISH
BEGIN:VEVENT
DTSTAMP:20260421T170909Z
DTSTART:20260514T153000Z
DTEND:20260514T163000Z
TRANSP:TRANSPARENT
PRIORITY:0
SUMMARY:Women's Bible Study
LOCATION:Club JC Room
DESCRIPTION:Joy: A Study of Philippians\n\n\nGroups:\nChurch ()\n\nLocatio
 n:\nClub JC Room\n\n
X-ALT-DESC;FMTTYPE=text/html:<!doctype html><html><body><a href="https://o
 urredeemers.org/ministries/adult-classes">Joy: A Study of Philippians</a><
 br /><br />Groups:<br />Church ()<br /><br />Location:<br />Club JC Room<b
 r /></body></html>
URL;VALUE=URI:https://ourredeemerschurch.tandem.co/index.php?type=view&act
 ion=event&id=47670
CREATED:20251014T165833Z
LAST-MODIFIED:20251014T170108Z
UID:event-47670-ourredeemerschurch@intand.com
END:VEVENT
END:VCALENDAR
