BEGIN:VCALENDAR
VERSION:2.0
PRODID:-//Intand Corporation//Tandem//EN
METHOD:PUBLISH
BEGIN:VEVENT
DTSTAMP:20260420T164634Z
DTSTART;VALUE=DATE:20260418
DTEND;VALUE=DATE:20260419
TRANSP:TRANSPARENT
PRIORITY:0
SUMMARY:Power VB Tournament
LOCATION:New Gymnasium\, Old Gymnasium
DESCRIPTION:Setup: TBD\nBreakdown: TBD\n\nGroups:\nSchool ()\n\nLocations:
 \nNew Gymnasium\nOld Gymnasium\n\n
URL;VALUE=URI:https://ourredeemerschurch.tandem.co/index.php?type=view&act
 ion=event&id=47541
CREATED:20251001T193054Z
LAST-MODIFIED:20251001T193054Z
UID:event-47541-ourredeemerschurch@intand.com
END:VEVENT
END:VCALENDAR
