BEGIN:VCALENDAR
VERSION:2.0
PRODID:-//Intand Corporation//Tandem//EN
METHOD:PUBLISH
BEGIN:VEVENT
DTSTAMP:20260421T140102Z
DTSTART:20260513T230000Z
DTEND:20260514T003000Z
TRANSP:TRANSPARENT
PRIORITY:0
SUMMARY:Northbound Kids
LOCATION:Large Children's Ministry Room\, Old Gymnasium\, Room 204\, Room 
 206\, Room 208\, Small Children's Ministry Room\, Gathering Grounds\, Nurs
 ery\, Parking Lot\, Playground\, Sanctuary Classroom 169\, Sanctuary Class
 room 168\, Sanctuary\, S
DESCRIPTION:Setup: 3:30 pm\nBreakdown: 8:30 pm\n\nGroups:\nChurch ()\n\nLo
 cations:\nLarge Children's Ministry Room\nOld Gymnasium\nRoom 204\nRoom 20
 6\nRoom 208\nSmall Children's Ministry Room\nGathering Grounds\nNursery\nP
 arking Lot\nPlayground\nSanctuary Classroom 169\nSanctuary Classroom 168\n
 Sanctuary\nSanctuary Classroom 173 (East)\n\nContacts:\nMandi Iverson\n\n
URL;VALUE=URI:https://ourredeemerschurch.tandem.co/index.php?type=view&act
 ion=event&id=46698
CREATED:20250819T161516Z
LAST-MODIFIED:20250819T161516Z
UID:event-46698-ourredeemerschurch@intand.com
END:VEVENT
END:VCALENDAR
