BEGIN:VCALENDAR
VERSION:2.0
PRODID:-//Intand Corporation//Tandem//EN
METHOD:PUBLISH
BEGIN:VEVENT
DTSTAMP:20260421T170941Z
DTSTART:20260603T180000Z
DTEND:20260603T190000Z
TRANSP:TRANSPARENT
PRIORITY:0
SUMMARY:People Care Meeting
LOCATION:Conference Room
DESCRIPTION:Groups:\nChurch ()\n\nLocation:\nConference Room\n\n
URL;VALUE=URI:https://ourredeemerschurch.tandem.co/index.php?type=view&act
 ion=event&id=45999
CREATED:20250717T182327Z
LAST-MODIFIED:20250717T182327Z
UID:event-45999-ourredeemerschurch@intand.com
END:VEVENT
END:VCALENDAR
