BEGIN:VCALENDAR
VERSION:2.0
PRODID:-//Intand Corporation//Tandem//EN
METHOD:PUBLISH
BEGIN:VEVENT
DTSTAMP:20260425T144244Z
DTSTART:20260414T210000Z
DTEND:20260414T220000Z
TRANSP:TRANSPARENT
PRIORITY:0
SUMMARY:5/6 BB @ Kenmare
LOCATION:Kenmare
DESCRIPTION:Groups:\nSchool ()\n\nLocation:\nKenmare\n\n
URL;VALUE=URI:https://ourredeemerschurch.tandem.co/index.php?type=view&act
 ion=event&id=45837
CREATED:20250610T150220Z
LAST-MODIFIED:20250610T150220Z
UID:event-45837-ourredeemerschurch@intand.com
END:VEVENT
END:VCALENDAR
