BEGIN:VCALENDAR
VERSION:2.0
PRODID:-//Intand Corporation//Tandem//EN
METHOD:PUBLISH
BEGIN:VEVENT
DTSTAMP:20260425T144310Z
DTSTART:20260421T223000Z
DTEND:20260421T233000Z
TRANSP:TRANSPARENT
PRIORITY:0
SUMMARY:5/6 GB @ Kenmare
LOCATION:Kenmare
DESCRIPTION:Groups:\nSchool ()\n\nLocation:\nKenmare\n\n
URL;VALUE=URI:https://ourredeemerschurch.tandem.co/index.php?type=view&act
 ion=event&id=45813
CREATED:20250610T150220Z
LAST-MODIFIED:20260415T152750Z
UID:event-45813-ourredeemerschurch@intand.com
END:VEVENT
END:VCALENDAR
