BEGIN:VCALENDAR
VERSION:2.0
PRODID:-//Intand Corporation//Tandem//EN
METHOD:PUBLISH
BEGIN:VEVENT
DTSTAMP:20260425T144310Z
DTSTART:20260420T211500Z
DTEND:20260420T221500Z
TRANSP:TRANSPARENT
PRIORITY:0
SUMMARY:5/6 GB @ Westhope/Newburg
LOCATION:Newburg
DESCRIPTION:Groups:\nSchool ()\n\nLocation:\nNewburg\n\n
URL;VALUE=URI:https://ourredeemerschurch.tandem.co/index.php?type=view&act
 ion=event&id=45810
CREATED:20250610T150220Z
LAST-MODIFIED:20250610T150220Z
UID:event-45810-ourredeemerschurch@intand.com
END:VEVENT
END:VCALENDAR
