BEGIN:VCALENDAR
VERSION:2.0
PRODID:-//Intand Corporation//Tandem//EN
METHOD:PUBLISH
BEGIN:VEVENT
DTSTAMP:20260420T182749Z
DTSTART:20260409T211500Z
DTEND:20260409T221500Z
TRANSP:TRANSPARENT
PRIORITY:0
SUMMARY:5/6 GB vs Westhope/Newburg
LOCATION:New Gymnasium
DESCRIPTION:Groups:\nSchool ()\n\nLocation:\nNew Gymnasium\n\n
URL;VALUE=URI:https://ourredeemerschurch.tandem.co/index.php?type=view&act
 ion=event&id=45803
CREATED:20250610T150220Z
LAST-MODIFIED:20260403T133146Z
UID:event-45803-ourredeemerschurch@intand.com
END:VEVENT
END:VCALENDAR
